BEGIN:VCALENDAR
VERSION:2.0
PRODID:-//Saalfelden-Leogang.com//NONSGML kigkonsult.se iCalcreator 2.22.1/
 /DE
METHOD:PUBLISH
X-WR-CALNAME;LANGUAGE=de:Saalfelden-Leogang.com
X-WR-CALDESC;LANGUAGE=de:Saalfelden-Leogang.com
X-WR-TIMEZONE;LANGUAGE=de:Europe/Berlin
BEGIN:VEVENT
UID:20260423T015428CEST-1432ivkPhS@Saalfelden-Leogang.com
DTSTAMP:20260422T235428Z
DESCRIPTION;LANGUAGE=de:Jeden Samstag – White Night  mit DJ Marc Kukka\n\n 
 Stylische Saturday-Night auf der Forsthofalm. Glamour\, Beats & Mountain V
 ibes bis November 2026.\n\n Start: 21:00 Uhr\n\n Adresse: Forsthofalm\, Hü
 tten 37\, 5771 Leogang\n\n\n\nDresscode: WHITE
DTSTART:20261031T200000Z
DTEND:20261031T200000Z
LOCATION;LANGUAGE=de:Holzhotel Forsthofalm\, Hütten 37
SUMMARY;LANGUAGE=de:White Night Forsthofalm
END:VEVENT
END:VCALENDAR
